BEGIN:VCALENDAR
VERSION:2.0
PRODID:-//Malibu Hindu Temple - ECPv6.15.12.2//NONSGML v1.0//EN
CALSCALE:GREGORIAN
METHOD:PUBLISH
X-ORIGINAL-URL:https://www.malibuhindutemple.org
X-WR-CALDESC:Events for Malibu Hindu Temple
REFRESH-INTERVAL;VALUE=DURATION:PT1H
X-Robots-Tag:noindex
X-PUBLISHED-TTL:PT1H
BEGIN:VTIMEZONE
TZID:UTC
BEGIN:STANDARD
TZOFFSETFROM:+0000
TZOFFSETTO:+0000
TZNAME:UTC
DTSTART:20240101T000000
END:STANDARD
END:VTIMEZONE
BEGIN:VEVENT
DTSTART;TZID=UTC:20250215T090000
DTEND;TZID=UTC:20250215T120000
DTSTAMP:20260421T001444
CREATED:20250126T014335Z
LAST-MODIFIED:20250126T014335Z
UID:30557-1739610000-1739620800@www.malibuhindutemple.org
SUMMARY:MASI MAGAM THEERTHAVARI
DESCRIPTION:
URL:https://www.malibuhindutemple.org/event/masi-magam-theerthavari/
LOCATION:Malibu Hindu Temple\, 1600 Las Virgenes Canyon Road\, Calabasas\, CA\, 91302\, United States
CATEGORIES:Program
ATTACH;FMTTYPE=image/jpeg:https://www.malibuhindutemple.org/wp-content/uploads/2025/01/11a16448-8956-426c-b356-9944ae9b32c3.jpg
ORGANIZER;CN="Malibu Hindu Temple":MAILTO:malibuhindutemple01@gmail.com
END:VEVENT
BEGIN:VEVENT
DTSTART;TZID=UTC:20250215T173000
DTEND;TZID=UTC:20250215T200000
DTSTAMP:20260421T001444
CREATED:20250209T210557Z
LAST-MODIFIED:20250209T210557Z
UID:30584-1739640600-1739649600@www.malibuhindutemple.org
SUMMARY:SANKATAHARA CHATHURDHI
DESCRIPTION:
URL:https://www.malibuhindutemple.org/event/sankatahara-chathurdhi-3/
LOCATION:Malibu Hindu Temple\, 1600 Las Virgenes Canyon Road\, Calabasas\, CA\, 91302\, United States
CATEGORIES:Program
ATTACH;FMTTYPE=image/jpeg:https://www.malibuhindutemple.org/wp-content/uploads/2025/02/SANKATAHARA-CHATHURDHI.jpg
ORGANIZER;CN="Malibu Hindu Temple":MAILTO:malibuhindutemple01@gmail.com
END:VEVENT
END:VCALENDAR