BEGIN:VCALENDAR
VERSION:2.0
PRODID:-//Malibu Hindu Temple - ECPv6.15.12.2//NONSGML v1.0//EN
CALSCALE:GREGORIAN
METHOD:PUBLISH
X-ORIGINAL-URL:https://www.malibuhindutemple.org
X-WR-CALDESC:Events for Malibu Hindu Temple
REFRESH-INTERVAL;VALUE=DURATION:PT1H
X-Robots-Tag:noindex
X-PUBLISHED-TTL:PT1H
BEGIN:VTIMEZONE
TZID:UTC
BEGIN:STANDARD
TZOFFSETFROM:+0000
TZOFFSETTO:+0000
TZNAME:UTC
DTSTART:20240101T000000
END:STANDARD
END:VTIMEZONE
BEGIN:VEVENT
DTSTART;VALUE=DATE:20250615
DTEND;VALUE=DATE:20250616
DTSTAMP:20260420T165806
CREATED:20250605T062929Z
LAST-MODIFIED:20250605T062929Z
UID:30734-1749945600-1750031999@www.malibuhindutemple.org
SUMMARY:Padmavathi Ammavaru Abhisekam
DESCRIPTION:
URL:https://www.malibuhindutemple.org/event/padmavathi-ammavaru-abhisekam/
LOCATION:Malibu Hindu Temple\, 1600 Las Virgenes Canyon Road\, Calabasas\, CA\, 91302\, United States
CATEGORIES:pooja
ATTACH;FMTTYPE=image/jpeg:https://www.malibuhindutemple.org/wp-content/uploads/2025/06/15-june-2025-event-2.jpg
ORGANIZER;CN="Malibu Hindu Temple":MAILTO:malibuhindutemple01@gmail.com
END:VEVENT
BEGIN:VEVENT
DTSTART;TZID=UTC:20250615T100000
DTEND;TZID=UTC:20250615T170000
DTSTAMP:20260420T165806
CREATED:20250605T063133Z
LAST-MODIFIED:20250605T063133Z
UID:30736-1749981600-1750006800@www.malibuhindutemple.org
SUMMARY:Manyu Sooktha Homam
DESCRIPTION:
URL:https://www.malibuhindutemple.org/event/manyu-sooktha-homam/
LOCATION:Malibu Hindu Temple\, 1600 Las Virgenes Canyon Road\, Calabasas\, CA\, 91302\, United States
ATTACH;FMTTYPE=image/jpeg:https://www.malibuhindutemple.org/wp-content/uploads/2025/06/15-june-2025-event.jpg
ORGANIZER;CN="Malibu Hindu Temple":MAILTO:malibuhindutemple01@gmail.com
END:VEVENT
END:VCALENDAR