BEGIN:VCALENDAR
VERSION:2.0
PRODID:-//Malibu Hindu Temple - ECPv6.15.12.2//NONSGML v1.0//EN
CALSCALE:GREGORIAN
METHOD:PUBLISH
X-WR-CALNAME:Malibu Hindu Temple
X-ORIGINAL-URL:https://www.malibuhindutemple.org
X-WR-CALDESC:Events for Malibu Hindu Temple
REFRESH-INTERVAL;VALUE=DURATION:PT1H
X-Robots-Tag:noindex
X-PUBLISHED-TTL:PT1H
BEGIN:VTIMEZONE
TZID:UTC
BEGIN:STANDARD
TZOFFSETFROM:+0000
TZOFFSETTO:+0000
TZNAME:UTC
DTSTART:20230101T000000
END:STANDARD
END:VTIMEZONE
BEGIN:VEVENT
DTSTART;VALUE=DATE:20241230
DTEND;VALUE=DATE:20250102
DTSTAMP:20260424T143451
CREATED:20241231T021048Z
LAST-MODIFIED:20241231T021048Z
UID:30501-1735516800-1735775999@www.malibuhindutemple.org
SUMMARY:New Year Long Weekend Temple Hours
DESCRIPTION:
URL:https://www.malibuhindutemple.org/event/new-year-long-weekend-temple-hours/
LOCATION:Malibu Hindu Temple\, 1600 Las Virgenes Canyon Road\, Calabasas\, CA\, 91302\, United States
CATEGORIES:TEMPLE
ATTACH;FMTTYPE=image/jpeg:https://www.malibuhindutemple.org/wp-content/uploads/2024/12/NewYearlongweekendTempleHours.jpg
ORGANIZER;CN="Malibu Hindu Temple":MAILTO:malibuhindutemple01@gmail.com
END:VEVENT
END:VCALENDAR