BEGIN:VCALENDAR
VERSION:2.0
PRODID:-//Malibu Hindu Temple - ECPv6.15.12.2//NONSGML v1.0//EN
CALSCALE:GREGORIAN
METHOD:PUBLISH
X-ORIGINAL-URL:https://www.malibuhindutemple.org
X-WR-CALDESC:Events for Malibu Hindu Temple
REFRESH-INTERVAL;VALUE=DURATION:PT1H
X-Robots-Tag:noindex
X-PUBLISHED-TTL:PT1H
BEGIN:VTIMEZONE
TZID:UTC
BEGIN:STANDARD
TZOFFSETFROM:+0000
TZOFFSETTO:+0000
TZNAME:UTC
DTSTART:20240101T000000
END:STANDARD
END:VTIMEZONE
BEGIN:VEVENT
DTSTART;TZID=UTC:20250607T153000
DTEND;TZID=UTC:20250607T170000
DTSTAMP:20260420T152103
CREATED:20250605T061344Z
LAST-MODIFIED:20250605T061344Z
UID:30720-1749310200-1749315600@www.malibuhindutemple.org
SUMMARY:Sani Pradosham
DESCRIPTION:
URL:https://www.malibuhindutemple.org/event/sani-pradosham-3/
LOCATION:Malibu Hindu Temple\, 1600 Las Virgenes Canyon Road\, Calabasas\, CA\, 91302\, United States
CATEGORIES:pooja
ATTACH;FMTTYPE=image/jpeg:https://www.malibuhindutemple.org/wp-content/uploads/2025/06/7-june-2025-event.jpg
ORGANIZER;CN="Malibu Hindu Temple":MAILTO:malibuhindutemple01@gmail.com
END:VEVENT
BEGIN:VEVENT
DTSTART;TZID=UTC:20250608T000000
DTEND;TZID=UTC:20250608T235900
DTSTAMP:20260420T152103
CREATED:20250605T061649Z
LAST-MODIFIED:20250605T061859Z
UID:30722-1749340800-1749427140@www.malibuhindutemple.org
SUMMARY:Vaikasi Vikasam
DESCRIPTION:
URL:https://www.malibuhindutemple.org/event/vaikasi-vikasam/
LOCATION:Malibu Hindu Temple\, 1600 Las Virgenes Canyon Road\, Calabasas\, CA\, 91302\, United States
CATEGORIES:pooja
ATTACH;FMTTYPE=image/jpeg:https://www.malibuhindutemple.org/wp-content/uploads/2025/06/8-june-2025-event-2.jpg
ORGANIZER;CN="Malibu Hindu Temple":MAILTO:malibuhindutemple01@gmail.com
END:VEVENT
BEGIN:VEVENT
DTSTART;TZID=UTC:20250608T100000
DTEND;TZID=UTC:20250608T170000
DTSTAMP:20260420T152103
CREATED:20250605T062300Z
LAST-MODIFIED:20250605T062300Z
UID:30724-1749376800-1749402000@www.malibuhindutemple.org
SUMMARY:Krishna Parivar Abhisekam
DESCRIPTION:
URL:https://www.malibuhindutemple.org/event/krishna-parivar-abhisekam/
LOCATION:Malibu Hindu Temple\, 1600 Las Virgenes Canyon Road\, Calabasas\, CA\, 91302\, United States
CATEGORIES:pooja
ATTACH;FMTTYPE=image/jpeg:https://www.malibuhindutemple.org/wp-content/uploads/2025/06/8-june-2025-event.jpg
ORGANIZER;CN="Malibu Hindu Temple":MAILTO:malibuhindutemple01@gmail.com
END:VEVENT
BEGIN:VEVENT
DTSTART;TZID=UTC:20250614T170000
DTEND;TZID=UTC:20250614T190000
DTSTAMP:20260420T152103
CREATED:20250605T062623Z
LAST-MODIFIED:20250605T062623Z
UID:30726-1749920400-1749927600@www.malibuhindutemple.org
SUMMARY:Sankatahara Chathurdhi
DESCRIPTION:
URL:https://www.malibuhindutemple.org/event/sankatahara-chathurdhi-4/
LOCATION:Malibu Hindu Temple\, 1600 Las Virgenes Canyon Road\, Calabasas\, CA\, 91302\, United States
CATEGORIES:pooja
ATTACH;FMTTYPE=image/webp:https://www.malibuhindutemple.org/wp-content/uploads/2025/06/14-june-2025-event.webp
ORGANIZER;CN="Malibu Hindu Temple":MAILTO:malibuhindutemple01@gmail.com
END:VEVENT
BEGIN:VEVENT
DTSTART;VALUE=DATE:20250615
DTEND;VALUE=DATE:20250616
DTSTAMP:20260420T152103
CREATED:20250605T062929Z
LAST-MODIFIED:20250605T062929Z
UID:30734-1749945600-1750031999@www.malibuhindutemple.org
SUMMARY:Padmavathi Ammavaru Abhisekam
DESCRIPTION:
URL:https://www.malibuhindutemple.org/event/padmavathi-ammavaru-abhisekam/
LOCATION:Malibu Hindu Temple\, 1600 Las Virgenes Canyon Road\, Calabasas\, CA\, 91302\, United States
CATEGORIES:pooja
ATTACH;FMTTYPE=image/jpeg:https://www.malibuhindutemple.org/wp-content/uploads/2025/06/15-june-2025-event-2.jpg
ORGANIZER;CN="Malibu Hindu Temple":MAILTO:malibuhindutemple01@gmail.com
END:VEVENT
BEGIN:VEVENT
DTSTART;TZID=UTC:20250615T100000
DTEND;TZID=UTC:20250615T170000
DTSTAMP:20260420T152103
CREATED:20250605T063133Z
LAST-MODIFIED:20250605T063133Z
UID:30736-1749981600-1750006800@www.malibuhindutemple.org
SUMMARY:Manyu Sooktha Homam
DESCRIPTION:
URL:https://www.malibuhindutemple.org/event/manyu-sooktha-homam/
LOCATION:Malibu Hindu Temple\, 1600 Las Virgenes Canyon Road\, Calabasas\, CA\, 91302\, United States
ATTACH;FMTTYPE=image/jpeg:https://www.malibuhindutemple.org/wp-content/uploads/2025/06/15-june-2025-event.jpg
ORGANIZER;CN="Malibu Hindu Temple":MAILTO:malibuhindutemple01@gmail.com
END:VEVENT
BEGIN:VEVENT
DTSTART;TZID=UTC:20250622T100000
DTEND;TZID=UTC:20250622T170000
DTSTAMP:20260420T152103
CREATED:20250605T063303Z
LAST-MODIFIED:20250605T063303Z
UID:30735-1750586400-1750611600@www.malibuhindutemple.org
SUMMARY:Andal Ammavaru Abhisekam
DESCRIPTION:
URL:https://www.malibuhindutemple.org/event/andal-ammavaru-abhisekam/
LOCATION:Malibu Hindu Temple\, 1600 Las Virgenes Canyon Road\, Calabasas\, CA\, 91302\, United States
ATTACH;FMTTYPE=image/jpeg:https://www.malibuhindutemple.org/wp-content/uploads/2025/06/22-june-2025-event.jpg
ORGANIZER;CN="Malibu Hindu Temple":MAILTO:malibuhindutemple01@gmail.com
END:VEVENT
BEGIN:VEVENT
DTSTART;VALUE=DATE:20250624
DTEND;VALUE=DATE:20250625
DTSTAMP:20260420T152103
CREATED:20250605T063505Z
LAST-MODIFIED:20250605T063505Z
UID:30737-1750723200-1750809599@www.malibuhindutemple.org
SUMMARY:Pradosham
DESCRIPTION:
URL:https://www.malibuhindutemple.org/event/pradosham-6/
LOCATION:Malibu Hindu Temple\, 1600 Las Virgenes Canyon Road\, Calabasas\, CA\, 91302\, United States
CATEGORIES:pooja
ATTACH;FMTTYPE=image/jpeg:https://www.malibuhindutemple.org/wp-content/uploads/2025/06/24-june-2025-event.jpg
ORGANIZER;CN="Malibu Hindu Temple":MAILTO:malibuhindutemple01@gmail.com
END:VEVENT
BEGIN:VEVENT
DTSTART;TZID=UTC:20250629T100000
DTEND;TZID=UTC:20250629T170000
DTSTAMP:20260420T152103
CREATED:20250605T063632Z
LAST-MODIFIED:20250605T063632Z
UID:30738-1751191200-1751216400@www.malibuhindutemple.org
SUMMARY:Kshurikastra Homam
DESCRIPTION:
URL:https://www.malibuhindutemple.org/event/kshurikastra-homam/
LOCATION:Malibu Hindu Temple\, 1600 Las Virgenes Canyon Road\, Calabasas\, CA\, 91302\, United States
CATEGORIES:pooja
ATTACH;FMTTYPE=image/jpeg:https://www.malibuhindutemple.org/wp-content/uploads/2025/06/29-june-2025-event.jpg
ORGANIZER;CN="Malibu Hindu Temple":MAILTO:malibuhindutemple01@gmail.com
END:VEVENT
BEGIN:VEVENT
DTSTART;TZID=UTC:20250630T100000
DTEND;TZID=UTC:20250630T170000
DTSTAMP:20260420T152103
CREATED:20250605T063750Z
LAST-MODIFIED:20250605T063750Z
UID:30739-1751277600-1751302800@www.malibuhindutemple.org
SUMMARY:Subramanya Shashti
DESCRIPTION:
URL:https://www.malibuhindutemple.org/event/subramanya-shashti-3/
LOCATION:Malibu Hindu Temple\, 1600 Las Virgenes Canyon Road\, Calabasas\, CA\, 91302\, United States
CATEGORIES:pooja
ATTACH;FMTTYPE=image/jpeg:https://www.malibuhindutemple.org/wp-content/uploads/2025/06/30-june-2025-event.jpg
ORGANIZER;CN="Malibu Hindu Temple":MAILTO:malibuhindutemple01@gmail.com
END:VEVENT
END:VCALENDAR